BEGIN:VCALENDAR
VERSION:2.0
PRODID:-//ADR Learning Institute - ECPv6.15.20//NONSGML v1.0//EN
CALSCALE:GREGORIAN
METHOD:PUBLISH
X-ORIGINAL-URL:https://adrlearninginstitute.ca
X-WR-CALDESC:Events for ADR Learning Institute
REFRESH-INTERVAL;VALUE=DURATION:PT1H
X-Robots-Tag:noindex
X-PUBLISHED-TTL:PT1H
BEGIN:VTIMEZONE
TZID:America/Edmonton
BEGIN:DAYLIGHT
TZOFFSETFROM:-0700
TZOFFSETTO:-0600
TZNAME:MDT
DTSTART:20250309T090000
END:DAYLIGHT
BEGIN:STANDARD
TZOFFSETFROM:-0600
TZOFFSETTO:-0700
TZNAME:MST
DTSTART:20251102T080000
END:STANDARD
BEGIN:DAYLIGHT
TZOFFSETFROM:-0700
TZOFFSETTO:-0600
TZNAME:MDT
DTSTART:20260308T090000
END:DAYLIGHT
BEGIN:STANDARD
TZOFFSETFROM:-0600
TZOFFSETTO:-0700
TZNAME:MST
DTSTART:20261101T080000
END:STANDARD
BEGIN:DAYLIGHT
TZOFFSETFROM:-0700
TZOFFSETTO:-0600
TZNAME:MDT
DTSTART:20270314T090000
END:DAYLIGHT
BEGIN:STANDARD
TZOFFSETFROM:-0600
TZOFFSETTO:-0700
TZNAME:MST
DTSTART:20271107T080000
END:STANDARD
END:VTIMEZONE
BEGIN:VEVENT
DTSTART;TZID=America/Edmonton:20260504T140000
DTEND;TZID=America/Edmonton:20260509T160000
DTSTAMP:20260423T081653
CREATED:20250901T213011Z
LAST-MODIFIED:20260314T004539Z
UID:10000208-1777903200-1778342400@adrlearninginstitute.ca
SUMMARY:Facilitating Workplace Restoration
DESCRIPTION:Course InformationInstructorRegistration Cut-Off Cancellation PolicyCourse Information \nTraditional Indigenous Circle Processes adapted to heal workplaces. \nCreated by Elder Vicky Whalen and by Paula Drouin \nVicky and Paula worked together for a couple of decades.  The passing of Elder Vicky in 2020 was such a loss\, and we feel honoured to have her ideas live on in this course. \nDuring this workshop\, an Elder or Cultural Knowledge Keeper will provide participants with traditional indigenous circle teachings used for sharing\, healing and addressing conflict. Paula will then provide practical ways to adapt traditional circle processes to restore modern post-conflict workplaces. \nEmployees are frequently harmed not only by the people they are complaining about\, but also by formal complaint processes such as grievances\, investigations\, arbitrations\, hearings\, and appeals. Once the formal processes have concluded\, these same complainants and respondents frequently must continue to work together.  The inspiration for this workshop came from being asked\, “How can we put this team back together?” \nPaula’s experience designing and delivering an Indigenous Peacemaking Certificate Program for Native Counselling Services of Alberta has provided her with a culturally rich exposure to traditional healing processes and the caring presence of many Elders.  With deep respect for the work of these Elders and their application of sharing and healing circles to help families\, groups\, and communities overcome harm\, Paula reached out to Vicky to co-create this unique opportunity that we are sure will challenge your thinking and inspire you to ‘think outside the box’ when addressing team tensions. \nPaula has spent several years finding respected people from Indigenous Nations to co-present this material. Paula will be working with a few different Elders and others from the community who are familiar with the work to co-facilitate.  Names will be provided closer to the delivery date. \nWho is the course designed for: Anyone with the responsibility to work in workplaces\, helping teams pull back together post-conflict. This training will also help employees with a responsibility to help teams ‘clear the air’ or resolve issues as a group. Having previous training in conflict resolution and experience facilitating conflict resolution conversations will provide some confidence in preparing people for and facilitating workplace restoration circles. \nDates and Times: \nMonday\, May 4\, 2026 | 2:00 – 5:00pm MT\nWednesday\, May 6\, 2026 | 2:00 – 5:00pm MT\nSaturday\, May 9\, 2026 | 9:00am – 4:00pm MT \nLocation: Online \nInstructor \nInstructors:  \nPaula Drouin – Paula draws on her past experiences working in a maximum security prison and in Edmonton’s inner city to create links between theory and practice.  She has designed and delivered training in restorative justice\, workplace assessments\, investigations\, mediation\, negotiation\, conflict resolution and has provided mediation and other dispute resolution services in workplaces for over twenty years.  \nRegistration Cut-Off  \nThe idea of preventing someone from registering for a course makes us all crazy\, so we won’t do that.  However\, we need to order printing a week before the course and make final decisions about the number of coaches to bring in\, and confirm the size of the classroom being rented.  Therefore\, we hope you will register as soon as possible (knowing we’ll be kind and easy to deal with if you have to cancel) and in exchange we will keep registration open until the day before the course.  We will shut off online course registration a week before\, however you can just give us a call at 780-460-7599 or send an email to admin@adrlearninginstitute.ca to register.  We will confirm your registration and make sure we have all the materials you will need when you arrive on the course date. \nCancellation Policy \nWe know life happens.  Sometimes schedules change or the universe interferes with your plans.  Please provide us with as much notice as possible so we can provide you with a full refund and hopefully fill your spot.  If the universe doesn’t let you know until five or less days before the course\, then we will give you a full credit towards another course which you\, or someone you choose to transfer it to\, can use within a year.  If your financial situation is such that you just really need the money to be put back into your account\, then give us a call and we will provide a refund less any admin costs incurred through Pay Pal or Invoicing. \n\nRegister\nIf you have already taken a course with us\, please email coursesupport@adrlearninginstitute.ca for any further course registrations at this time. \n\nIf you are a new student or a representative of a new student\, please fill out the form below entering the information of the person taking the course. \n\n\n\n\n\nUpon hitting SUBMIT you will be taken to FlyWire for payment and will be required to fill out the information for the individual or organization being billed. \n 
URL:https://adrlearninginstitute.ca/course/facilitating-workplace-restoration-spring-2026/
LOCATION:Online Course\, Canada
CATEGORIES:Facilitating Workplace Restoration,Online Courses,Restorative Justice,Specialty Courses
ATTACH;FMTTYPE=image/jpeg:https://adrlearninginstitute.ca/wp-content/uploads/2018/10/Water-Droplet-for-circle-training.jpeg
END:VEVENT
END:VCALENDAR