BEGIN:VCALENDAR
VERSION:2.0
PRODID:-//ADR Learning Institute - ECPv6.15.20//NONSGML v1.0//EN
CALSCALE:GREGORIAN
METHOD:PUBLISH
X-WR-CALNAME:ADR Learning Institute
X-ORIGINAL-URL:https://adrlearninginstitute.ca
X-WR-CALDESC:Events for ADR Learning Institute
REFRESH-INTERVAL;VALUE=DURATION:PT1H
X-Robots-Tag:noindex
X-PUBLISHED-TTL:PT1H
BEGIN:VTIMEZONE
TZID:America/Edmonton
BEGIN:DAYLIGHT
TZOFFSETFROM:-0700
TZOFFSETTO:-0600
TZNAME:MDT
DTSTART:20250309T090000
END:DAYLIGHT
BEGIN:STANDARD
TZOFFSETFROM:-0600
TZOFFSETTO:-0700
TZNAME:MST
DTSTART:20251102T080000
END:STANDARD
BEGIN:DAYLIGHT
TZOFFSETFROM:-0700
TZOFFSETTO:-0600
TZNAME:MDT
DTSTART:20260308T090000
END:DAYLIGHT
BEGIN:STANDARD
TZOFFSETFROM:-0600
TZOFFSETTO:-0700
TZNAME:MST
DTSTART:20261101T080000
END:STANDARD
BEGIN:DAYLIGHT
TZOFFSETFROM:-0700
TZOFFSETTO:-0600
TZNAME:MDT
DTSTART:20270314T090000
END:DAYLIGHT
BEGIN:STANDARD
TZOFFSETFROM:-0600
TZOFFSETTO:-0700
TZNAME:MST
DTSTART:20271107T080000
END:STANDARD
END:VTIMEZONE
BEGIN:VEVENT
DTSTART;TZID=America/Edmonton:20260421T150000
DTEND;TZID=America/Edmonton:20260425T150000
DTSTAMP:20260424T095358
CREATED:20250608T211554Z
LAST-MODIFIED:20251215T212728Z
UID:10000195-1776783600-1777129200@adrlearninginstitute.ca
SUMMARY:Negotiation for Mediators
DESCRIPTION:Course InformationPre-RequisitesScheduleRegistration Cut-Off Cancellation PolicyCourse Information \nThis 14 hour course was designed as the negotiation component of The Mediation Training Certificate Program. Trained mediators\, whose training did not include negotiation\, will benefit from this course\, and are welcome to register without having to register for any of our other courses. \nBeing an effective Mediator requires a deep understanding of Negotiation. This 14 hour course focuses on helping learners in mediation training understand mediation from the perspective of the parties they are mediating. It will focus on effective ways to prepare for a negotiation\, participate in a negotiation to meet the needs of everyone involved\, and writing up an agreement. The course is full of tips and practice to develop a deeper understanding of an interest-based negotiation model so you can facilitate others through their negotiation. \nPre-Requisites \nSuccessful completion of Mediation Foundations 1.1. \nSchedule \n\nTuesday\, April 21\, 2026 – 3:00pm – 6:00pm MT\nThursday\, April 23\, 2026 – 3:00pm – 6:00pm MT\nSaturday\, April 25\, 2026 – 9:00am – 3:00pm MT\n\nCourse dates and times are based on Mountain Daylight/Standard Time and could be adjusted to best meet the time zones of the final list of participants. \n12 hours in class (Zoom) plus 2 hours of asynchronous work to be completed on your own\, pre-course\, and between sessions. \nRegistration Cut-Off  \nThe idea of preventing someone from registering for a course makes us all crazy\, so we won’t do that.  However\, we need to order printing a week before the course and make final decisions about the number of coaches to bring in\, and confirm the size of the classroom being rented.  Therefore\, we hope you will register as soon as possible (knowing we’ll be kind and easy to deal with if you have to cancel) and in exchange\, we will keep registration open until the day before the course.  We will shut off online course registration a week before\, however you can just give us a call at 780-460-7599 or send an email to admin@adrlearninginstitute.ca to register.  We will confirm your registration and make sure we have all the materials you will need when you arrive on the course date. \nCancellation Policy \nWe know life happens.  Sometimes schedules change or the universe interferes with your plans.  Please provide us with as much notice as possible so we can provide you with a full refund and hopefully fill your spot.  If the universe doesn’t let you know until five or less days before the course\, then we will give you a full credit towards another course which you\, or someone you choose to transfer it to\, can use within a year.  If your financial situation is such that you just really need the money to be put back into your account\, then give us a call and we will provide a refund less any admin costs incurred through Pay Pal or Invoicing. \n\nRegister\nIf you have already taken a course with us\, please email coursesupport@adrlearninginstitute.ca for any further course registrations at this time. \n\nIf you are a new student or a representative of a new student\, please fill out the form below entering the information of the person taking the course. \n\n\n\n\n\nUpon hitting SUBMIT you will be taken to FlyWire for payment and will be required to fill out the information for the individual or organization being billed.
URL:https://adrlearninginstitute.ca/course/negotiation-for-mediators-spring-2026/
LOCATION:Online Course\, Canada
CATEGORIES:Online Courses,Specialty Courses,Understanding the Negotiation for the Mediator
ATTACH;FMTTYPE=image/jpeg:https://adrlearninginstitute.ca/wp-content/uploads/2020/08/Understanding-Negotiation-for-the-Mediator-online.jpg
END:VEVENT
BEGIN:VEVENT
DTSTART;TZID=America/Edmonton:20260430T150000
DTEND;TZID=America/Edmonton:20260528T180000
DTSTAMP:20260424T095358
CREATED:20250608T212715Z
LAST-MODIFIED:20260314T010914Z
UID:10000197-1777561200-1779991200@adrlearninginstitute.ca
SUMMARY:Mediation 1.2 Challenges
DESCRIPTION:Course InformationPre-RequisitesScheduleRegistration Cut-Off Cancellation PolicyCourse Information \nThis is the third course of four that will make up the training required to meet the mediation course requirements toward earning our Mediation Training Certificate. It is a 22 hour course comprised of 18 hours in class plus 4 hours of asynchronous work on your own. \nThis course will focus on managing the emotional dynamic and other challenges in mediation such as\, power\, trauma and intercultural communication. It will also provide more role play practise mediating\, with the assistance of a coach\, focusing on drawing out deeper interests while managing the emotional climate. \nCourse approved by ADR Institute of Canada as recognized training towards the national designations of Qualified Mediator and Chartered Mediator. Click here for more information about national designations. \nPre-Requisites \nSuccessful completion of Mediation 1.1 Foundations and Negotiation for Mediators (or equivalent) \nSchedule \n\nThursday\, April 30\, 2026 – 3:00 – 6:00pm MT\nThursday\, May 14\, 2026 – 3:00 – 6:00pm MT\nThursday\, May 21\, 2026  – 3:00 – 6:00pm MT\nSaturday\, May 23\, 2026 – 9:00am – 3:00pm MT\nThursday\, May 28\, 2026 – 3:00 – 6:00pm MT\n\nCourse dates and times are based on Mountain Daylight/Standard Time and could be adjusted to best meet the time zones of the final list of participants. \nRegistration Cut-Off  \nThe idea of preventing someone from registering for a course makes us all crazy\, so we won’t do that.  However\, we need to order printing a week before the course and make final decisions about the number of coaches to bring in\, and confirm the size of the classroom being rented.  Therefore\, we hope you will register as soon as possible (knowing we’ll be kind and easy to deal with if you have to cancel) and in exchange\, we will keep registration open until the day before the course.  We will shut off online course registration a week before\, however you can just give us a call at 780-460-7599 or send an email to admin@adrlearninginstitute.ca to register.  We will confirm your registration and make sure we have all the materials you will need when you arrive on the course date. \nCancellation Policy \nWe know life happens.  Sometimes schedules change or the universe interferes with your plans.  Please provide us with as much notice as possible so we can provide you with a full refund and hopefully fill your spot.  If the universe doesn’t let you know until five or less days before the course\, then we will give you a full credit towards another course which you\, or someone you choose to transfer it to\, can use within a year.  If your financial situation is such that you just really need the money to be put back into your account\, then give us a call and we will provide a refund less any admin costs incurred through Pay Pal or Invoicing. \n \n\nCost: $975.00 +tax\nApproval to register is required by ADR Learning Institute.  Completion of pre-requisites has to be confirmed prior to registration. Click here to submit your application.
URL:https://adrlearninginstitute.ca/course/mediation-1-2-challenges-spring-2026/
LOCATION:Online Course\, Canada
CATEGORIES:Mediation Challenges,Online Courses
ATTACH;FMTTYPE=image/jpeg:https://adrlearninginstitute.ca/wp-content/uploads/2019/11/mediation-challenges-online.jpg
END:VEVENT
END:VCALENDAR